BEGIN:VCALENDAR
VERSION:2.0
PRODID:-//PEASEC - Science and Technology for Peace and Security | Technical University of Darmstadt - ECPv6.15.20//NONSGML v1.0//EN
CALSCALE:GREGORIAN
METHOD:PUBLISH
X-ORIGINAL-URL:https://peasec.de
X-WR-CALDESC:Events for PEASEC - Science and Technology for Peace and Security | Technical University of Darmstadt
REFRESH-INTERVAL;VALUE=DURATION:PT1H
X-Robots-Tag:noindex
X-PUBLISHED-TTL:PT1H
BEGIN:VTIMEZONE
TZID:Europe/Berlin
BEGIN:DAYLIGHT
TZOFFSETFROM:+0100
TZOFFSETTO:+0200
TZNAME:CEST
DTSTART:20190331T010000
END:DAYLIGHT
BEGIN:STANDARD
TZOFFSETFROM:+0200
TZOFFSETTO:+0100
TZNAME:CET
DTSTART:20191027T010000
END:STANDARD
BEGIN:DAYLIGHT
TZOFFSETFROM:+0100
TZOFFSETTO:+0200
TZNAME:CEST
DTSTART:20200329T010000
END:DAYLIGHT
BEGIN:STANDARD
TZOFFSETFROM:+0200
TZOFFSETTO:+0100
TZNAME:CET
DTSTART:20201025T010000
END:STANDARD
BEGIN:DAYLIGHT
TZOFFSETFROM:+0100
TZOFFSETTO:+0200
TZNAME:CEST
DTSTART:20210328T010000
END:DAYLIGHT
BEGIN:STANDARD
TZOFFSETFROM:+0200
TZOFFSETTO:+0100
TZNAME:CET
DTSTART:20211031T010000
END:STANDARD
END:VTIMEZONE
BEGIN:VEVENT
DTSTART;TZID=Europe/Berlin:20200430T150000
DTEND;TZID=Europe/Berlin:20200430T183000
DTSTAMP:20260421T115535
CREATED:20200127T090554Z
LAST-MODIFIED:20200316T200438Z
UID:5959-1588258800-1588271400@peasec.de
SUMMARY:verschoben! LOEWE Zentrum emergenCITY: feierliche Eröffnung
DESCRIPTION:
URL:https://peasec.de/event/emergencity-feierliche-eroeffnung/
END:VEVENT
END:VCALENDAR