BEGIN:VCALENDAR
VERSION:2.0
PRODID:-//PEASEC - Science and Technology for Peace and Security | Technical University of Darmstadt - ECPv6.15.20//NONSGML v1.0//EN
CALSCALE:GREGORIAN
METHOD:PUBLISH
X-ORIGINAL-URL:https://peasec.de
X-WR-CALDESC:Events for PEASEC - Science and Technology for Peace and Security | Technical University of Darmstadt
REFRESH-INTERVAL;VALUE=DURATION:PT1H
X-Robots-Tag:noindex
X-PUBLISHED-TTL:PT1H
BEGIN:VTIMEZONE
TZID:Europe/Berlin
BEGIN:DAYLIGHT
TZOFFSETFROM:+0100
TZOFFSETTO:+0200
TZNAME:CEST
DTSTART:20240331T010000
END:DAYLIGHT
BEGIN:STANDARD
TZOFFSETFROM:+0200
TZOFFSETTO:+0100
TZNAME:CET
DTSTART:20241027T010000
END:STANDARD
BEGIN:DAYLIGHT
TZOFFSETFROM:+0100
TZOFFSETTO:+0200
TZNAME:CEST
DTSTART:20250330T010000
END:DAYLIGHT
BEGIN:STANDARD
TZOFFSETFROM:+0200
TZOFFSETTO:+0100
TZNAME:CET
DTSTART:20251026T010000
END:STANDARD
BEGIN:DAYLIGHT
TZOFFSETFROM:+0100
TZOFFSETTO:+0200
TZNAME:CEST
DTSTART:20260329T010000
END:DAYLIGHT
BEGIN:STANDARD
TZOFFSETFROM:+0200
TZOFFSETTO:+0100
TZNAME:CET
DTSTART:20261025T010000
END:STANDARD
BEGIN:DAYLIGHT
TZOFFSETFROM:+0100
TZOFFSETTO:+0200
TZNAME:CEST
DTSTART:20270328T010000
END:DAYLIGHT
BEGIN:STANDARD
TZOFFSETFROM:+0200
TZOFFSETTO:+0100
TZNAME:CET
DTSTART:20271031T010000
END:STANDARD
END:VTIMEZONE
BEGIN:VEVENT
DTSTART;TZID=Europe/Berlin:20250113T084500
DTEND;TZID=Europe/Berlin:20250113T091500
DTSTAMP:20260421T170159
CREATED:20250103T152351Z
LAST-MODIFIED:20250103T152351Z
UID:19986-1736757900-1736759700@peasec.de
SUMMARY:Masterarbeit im Studiengang IT-Sicherheit von Andre Hanke: Securing Cryptography in the Quantum Era: An Analysis of Threats and Post-Quantum Solution
DESCRIPTION:Einstein famously described quantum phenomena as “spukhafte Fernwirkung”—spooky action at a distance—a concept that challenged classical understanding. While\, these same quantum principles have the potential to propel us into a new computational era\, promising unprecedented processing power\, they also pose a significant threat to cryptographic systems should a sufficiently large quantum computer be built. Algorithms like Shor’s and Grover’s threaten to break the mathematical foundations of current encryption methods such as RSA and Elliptic Curve Cryptography. While it’s uncertain when quantum computers capable of this will be realized—possibly decades in the future—findings suggest that this risk to data is already present. There is a rising suspicion that adversaries are intercepting encrypted data today to decrypt it once quantum computing matures\, thereby jeopardizing sensitive information requiring long-term confidentiality. The development of quantum-resistant cryptography is crucial to counter this threat\, with the National Institute of Standards and Technology (NIST) leading efforts through their Post-Quantum Cryptography Standardization process. Although this process finally bore fruit after eight years with the release of the first three standards in 2024\, findings further suggest a misconception regarding the perceived urgency of this migration. Despite significant progress in researching and standardizing quantum-resistant algorithms\, the threat posed by potential quantum attacks seems to be underestimated. Widespread adoption is expected to take years due to the need for careful deprecation of existing algorithms and extensive public-private engagement. Additionally\, the historically lengthy process of even much less complex cryptographic migrations means that real-world implementation may be too slow and does not account for the immediate problem of data harvesting attacks. This thesis underscores the urgent need to accelerate the global adoption of post-quantum cryptographic measures to safeguard digital infrastructures against the emerging and immediate quantum threat. \nBetreuer: Dr. Thomas Reinold\nPrüfer: Prof. Dr. Dr. Christian Reuter
URL:https://peasec.de/event/masterarbeit-im-studiengang-it-sicherheit-von-andre-hanke-securing-cryptography-in-the-quantum-era-an-analysis-of-threats-and-post-quantum-solution-2/
LOCATION:Zoom
CATEGORIES:Kolloquium
END:VEVENT
BEGIN:VEVENT
DTSTART;TZID=Europe/Berlin:20250115T161500
DTEND;TZID=Europe/Berlin:20250115T175500
DTSTAMP:20260421T170159
CREATED:20240926T124106Z
LAST-MODIFIED:20240926T152148Z
UID:19054-1736957700-1736963700@peasec.de
SUMMARY:Ringvorlesung KRITIS: Schutz maritimer kritischer Infrastrukturen (Dr.-Ing. habil. Frank Sill-Torres\, Direktor des DLR Instituts für den Schutz maritimer Infrastrukturen in Bremerhaven)
DESCRIPTION:
URL:https://peasec.de/event/ringvorlesung-kritis-schutz-maritimer-kritischer-infrastrukturen-dr-ing-habil-frank-sill-torres-direktor-des-dlr-instituts-fuer-den-schutz-maritimer-infrastrukturen-in-bremerhaven/
LOCATION:Raum S103/123 (Altes Hauptgebäude\, Hochschulstraße 1\, 64289 Darmstadt) und in ZOOM
CATEGORIES:Ringvorlesung Sichere Kritische Infrastrukturen
END:VEVENT
BEGIN:VEVENT
DTSTART;TZID=Europe/Berlin:20250120T090000
DTEND;TZID=Europe/Berlin:20250120T092500
DTSTAMP:20260421T170159
CREATED:20250103T152200Z
LAST-MODIFIED:20250103T152200Z
UID:19984-1737363600-1737365100@peasec.de
SUMMARY:Masterarbeit im Studiengang IT-Sicherheit von Per Philipp Schneider: Potentials and Challenges of Satellite Internet for Critical Infrastructures in case of an Internet Connection Failure
DESCRIPTION:The ongoing digitalization of critical infrastructures has significantly increased their dependence on internet connectivity. Disruptions to essential submarine cables\, which form the backbone of internet access\, can abruptly isolate highly digitalized regions from the internet for extended periods. The rapid development of satellite constellations for broadband internet in recent years presents new opportunities for internet provisioning. This study aims to explore potentials and limitations of satellite internet for maintaining best possible continuous operation of critical infrastructures during outages of terrestrial cable connections. Existing research does not provide systematic methodologies to address this issue. Thus\, a novel framework is proposed to analyze the problem in a structured manner. The methodology identifies internet-dependent processes within an infrastructure and assesses their internet requirements. These requirements are then compared against the performance parameters of a selected satellite constellation. Based on the feasibility of maintaining operation of these processes\, the analysis is extended to more complex structures to evaluate operational viability in these cases. The framework was applied to the medical services subsector within the healthcare sector and the financial transactions subsector within the finance sector\, using the Starlink satellite constellation. Results show that Starlink can support most identified processes and holds significant potential for sustaining the operation of complex infrastructures in these two subsectors. However\, in some scenarios\, limitations arise due to Starlink’s limited uplink capabilities and increased latency. The flexibility of the developed framework enables future research to analyze additional sectors\, incorporate new satellite constellations\, or extend existing analyses by including newly identified processes. \nBetreuer: Jonas Franken\nPrüfer: Prof. Dr. Dr. Christian Reuter
URL:https://peasec.de/event/masterarbeit-im-studiengang-it-sicherheit-von-per-philipp-schneider-potentials-and-challenges-of-satellite-internet-for-critical-infrastructures-in-case-of-an-internet-connection-failure/
LOCATION:Zoom
CATEGORIES:Kolloquium
END:VEVENT
BEGIN:VEVENT
DTSTART;TZID=Europe/Berlin:20250122T161500
DTEND;TZID=Europe/Berlin:20250122T180000
DTSTAMP:20260421T170159
CREATED:20250121T071118Z
LAST-MODIFIED:20250121T071143Z
UID:20141-1737562500-1737568800@peasec.de
SUMMARY:Ringvorlesung KRITIS: Die Bevölkerung und ihre Wahrnehmung in Krisen (Dr. Daniel Lorenz; Berlin\, Katastrophenforschungsstelle)
DESCRIPTION:
URL:https://peasec.de/event/ringvorlesung-kritis-die-bevoelkerung-und-ihre-wahrnehmung-in-krisen-dr-daniel-lorenz-berlin-katastrophenforschungsstelle/
CATEGORIES:Ringvorlesung Sichere Kritische Infrastrukturen
END:VEVENT
BEGIN:VEVENT
DTSTART;TZID=Europe/Berlin:20250129T153000
DTEND;TZID=Europe/Berlin:20250129T173000
DTSTAMP:20260421T170159
CREATED:20240906T131031Z
LAST-MODIFIED:20240926T134218Z
UID:18886-1738164600-1738171800@peasec.de
SUMMARY:Disputation Stefka Schmid (cand. Dr. phil.): "Governing (In)Security: Socio-technical Interactions in International Relations"
DESCRIPTION:Disputation zum Dr. phil. von Stefka Schmid \nMittwoch\, 29.01.2025\, 15:30-17:30 im CYSEC-Gebäude; Pankratiusstr. 2\, Raum: S2/20 9 \nGoverning (In)Security: Socio-technical Interactions in International Relations \nKommission: \n\nErstreferent: Prof. Dr. Dr. Christian Reuter\, Fachbereich Informatik und: Institut für Politikwissenschaften\, TUDa (Zweitmitglied)\nKorreferent: Prof. Dr. Matthias Leese\, Departement Geistes-\, Sozial- und Staatswissenschaften\, ETH Zürich\nKorreferent: Prof. Dr. Jens Steffek\, Institut für Politikwissenschaften\, TUDa\nVorsitzender: Prof. Dr. Christian Stecker\, Institut für Politikwissenschaften\, TUDa\nMitglied: Prof. Dr. Andreas Kaminski\, Institut für Philosophie\, TUDa
URL:https://peasec.de/event/disputation-stefka-schmid-cand-dr-phil-governing-insecurity-socio-technical-interactions-in-the-international-relations/
LOCATION:Darmstadt
CATEGORIES:Disputation
END:VEVENT
BEGIN:VEVENT
DTSTART;TZID=Europe/Berlin:20250129T161500
DTEND;TZID=Europe/Berlin:20250129T175500
DTSTAMP:20260421T170159
CREATED:20240926T125620Z
LAST-MODIFIED:20240926T152227Z
UID:19057-1738167300-1738173300@peasec.de
SUMMARY:Ringvorlesung KRITIS: Wie resilient sind Deutschlands Strom- und Kommunikationsnetze? (Sigurd Schuster\, Nokia/Sigurd Schuster Management Consulting)
DESCRIPTION:
URL:https://peasec.de/event/ringvorlesung-kritis-wie-resilient-sind-deutschlands-strom-und-kommunikationsnetze-sigurd-schuster-nokia-sigurd-schuster-management-consulting/
LOCATION:Raum S103/123 (Altes Hauptgebäude\, Hochschulstraße 1\, 64289 Darmstadt) und in ZOOM
CATEGORIES:Ringvorlesung Sichere Kritische Infrastrukturen
END:VEVENT
BEGIN:VEVENT
DTSTART;TZID=Europe/Berlin:20250205T161500
DTEND;TZID=Europe/Berlin:20250205T175500
DTSTAMP:20260421T170159
CREATED:20240926T130244Z
LAST-MODIFIED:20250205T084846Z
UID:19061-1738772100-1738778100@peasec.de
SUMMARY:Muss leider ausfallen - Ringvorlesung KRITIS: Krisenkommunikation (Sebastian T. Baum\, Sachgebiet 5 - Hattersheim)
DESCRIPTION:
URL:https://peasec.de/event/ringvorlesung-kritis-krisenkommunikation-sebastian-t-baum-sachgebiet5-hattersheim/
LOCATION:Raum S103/123 (Altes Hauptgebäude\, Hochschulstraße 1\, 64289 Darmstadt) und in ZOOM
CATEGORIES:Ringvorlesung Sichere Kritische Infrastrukturen
END:VEVENT
BEGIN:VEVENT
DTSTART;TZID=Europe/Berlin:20250210T084500
DTEND;TZID=Europe/Berlin:20250210T091500
DTSTAMP:20260421T170159
CREATED:20250205T150741Z
LAST-MODIFIED:20250205T150939Z
UID:20459-1739177100-1739178900@peasec.de
SUMMARY:Masterarbeit im Studiengang Internationale Studien/Friedens- und Konfliktforschung von Sabrina Neuhäusel: Risk Cultures and Citizens‘ Perception of Social Media Use in Emergencies – A German Case Study
DESCRIPTION:Social Media [SM] has become an essential component of contemporary crisis management and communication strategies\, and its value across various natural or human-induced emergency events is well-attested. However\, studies that offer explanatory factors for citizens’ divergent risk perception and behavior before\, during\, and after emergencies – particularly in relation to SM – are still scarce. This study addresses this gap by transferring Cornia et al.’s (2016) risk culture framework\, differentiating between state-oriented\, individualistic\, and fatalistic risk cultures\, to the realm of SM to analyze citizens’ use of and attitudes toward SM in emergencies. Therefore\, an online survey with N=192 German citizens was conducted to investigate whether recent incidents\, such as the COVID-19 pandemic or the 2021 Ahr Valley flood\, which have caused widespread criticism of and dissatisfaction with the effectiveness of Germany’s civil protection systems\, have changed citizens’ risk perception and crisis management strategies\, and how this affected their SM use. Specifically\, it was examined whether Germany has shifted from a state-oriented risk culture to an individualistic one. The findings of the quantitative and qualitative analyses reveal an interplay between state-oriented and individualistic risk culture attitudes\, where both state-provided guidance and personal initiative\, i.e.\, in the form of increased reliance on SM\, play essential roles in navigating crises. The results also highlight practical implications for improving future crisis communication strategies and context-sensitive approaches to strengthening societal resilience\, thus contributing to a deeper understanding of how socio-cultural contexts shape citizens’ risk perception and behavior. \nBetreuerin: Dr. Stefka Schmid\nPrüfer: Prof. Dr. Dr. Christian Reuter \nOrt: virtuell bei Zoom
URL:https://peasec.de/event/masterarbeit-im-studiengang-internationale-studien-friedens-und-konfliktforschung-von-sabrina-neuhausel-risk-cultures-and-citizens-perception-of-social-media-use-in-emergencies-a/
LOCATION:Zoom
CATEGORIES:Kolloquium
END:VEVENT
BEGIN:VEVENT
DTSTART;TZID=Europe/Berlin:20250218T093000
DTEND;TZID=Europe/Berlin:20250218T110000
DTSTAMP:20260421T170159
CREATED:20250104T095015Z
LAST-MODIFIED:20250131T124101Z
UID:19989-1739871000-1739876400@peasec.de
SUMMARY:Distinguished Lecture and Discussion "Risk and resilience through the ages" (Prof. Dr. Ira Helsloot)
DESCRIPTION:Date: Tuesday\,  18.02.2025\, 9:30 am \nSpeaker: Prof. Dr. Ira Helsloot\, Radboud University Nijmegen\, The Netherlands \nTitle: “Risk and resilience through the ages” \nVenue: online\, Zoom by request below to book a ticket \nAbout the lecture: The central thesis of this talk is that improving risk resilience\, perhaps paradoxically\, starts with accepting residual risk. We will first briefly discuss mankind’s risk history. Here\, we differentiate between formal risk policies and the practical risk management of society.  We will show that coming from a period of no formal risk policies but only acceptance of the inevitability of the harm\, via a short period of rational risk policies after WOII in which residual risk was accepted; we have arrived in a society that seeks to prevent all risk at all costs and thus struggles to define rational risk policies. In practice\, there\, of course\, always was and is societal resilience. Part of societal resilience is the risk management of enterprises. Here\, there are obvious limitations that call for proportional regulation. Present-day regulation\, however\, is by and large not helpful in improving societal resilience. We then will come up with good and not-so-good examples of practices and regulations aimed at improving digital risk resilience. The framework for analyzing these examples is the good old-fashioned cost-benefit analysis that seems in contradiction with the present no-risk-accepted policies. \n  \nAbout the Speaker: Prof. Dr. Ira Helsloot is professor of the Governance of Safety and Security at the Radboud University. Originally promoted as a mathematician\, he is engaged in research on crisis management and the governance of safety since 1994. He was professor of Crisis Management and Physical Security at the Vrije Universiteit in Amsterdam from 2006 to 2011 and long-term editor of the Journal of Contingencies and Crisis Management (2004-2022). \n 
URL:https://peasec.de/event/lecture-and-discussion-risk-and-resilience-through-the-ages/
LOCATION:Pankratiusstraße 2\, Lab 121
END:VEVENT
BEGIN:VEVENT
DTSTART;TZID=Europe/Berlin:20250305T051500
DTEND;TZID=Europe/Berlin:20250305T073000
DTSTAMP:20260421T170159
CREATED:20250219T233842Z
LAST-MODIFIED:20250224T084637Z
UID:20526-1741151700-1741159800@peasec.de
SUMMARY:ISA2025: Vortrag von Stefka Schmid „Safe\, Secure and Trustworthy? User-Centered Design in Military AI Research”
DESCRIPTION:ISA 2025 Annual Convention: Vortrag von Stefka Schmid „Safe\, Secure and Trustworthy? User-Centered Design in Military AI Research” \nPanel: Human-machine relations in international security: A cross-disciplinary examination (Slot Code: WB62) \n  \n10:30 AM – 12:15 PM (CST) à bzw. 05:15-07:30 (UTC +1)
URL:https://peasec.de/event/isa2025-vortrag-von-stefka-schmid-safe-secure-and-trustworthy-user-centered-design-in-military-ai-research/
LOCATION:Conference Room 4I\, 4 Chicago Hilton\, 720 South Michigan Avenue\, Chicago\, IL 60605\, USA
END:VEVENT
BEGIN:VEVENT
DTSTART;TZID=Europe/Berlin:20250319T163000
DTEND;TZID=Europe/Berlin:20250319T180000
DTSTAMP:20260421T170159
CREATED:20250219T232355Z
LAST-MODIFIED:20250219T232355Z
UID:20522-1742401800-1742407200@peasec.de
SUMMARY:AFK-Kolloquium 2025: Panel „Gut gerüstet?“ mit Vortrag von Anja-Liisa Gonsior
DESCRIPTION:AFK-Kolloquium 2025: Panel „Gut gerüstet? Was wir über (Auf)Rüstung wissen\, worauf dieses Wissen basiert und wie wir es vermitteln können“\n\n\n \n\n\nVortrag von Anja-Liisa Gonsior „Think Tanks for Arms Control: Security Professionals’ Practices of Knowledge Production and Transfer in the Field of Emerging Disruptive Technologies”\n\n\n \n\n\nModeration von Stefka Schmid\n\n\n \n\n\nRaum 4 (Buttenschoen-Haus)\, 16:30-18:00 Uhr
URL:https://peasec.de/event/afk-kolloquium-2025-panel-gut-gerustet/
LOCATION:Rheinland-Pfälzischen Technischen Universität Kaiserslautern-Landau (RPTU)\, Erwin-Schrödinger-Straße 1\, 67663 Kaiserslautern\, Germany
END:VEVENT
BEGIN:VEVENT
DTSTART;TZID=Europe/Berlin:20250326T140000
DTEND;TZID=Europe/Berlin:20250326T160000
DTSTAMP:20260421T170159
CREATED:20240906T131751Z
LAST-MODIFIED:20250212T151731Z
UID:18888-1742997600-1743004800@peasec.de
SUMMARY:Disputation Philipp Kühn (cand. Dr.-Ing.): "Proactive Cyber Threat Intelligence: Automating the Intelligence Cycle based on Open Sources"
DESCRIPTION:Disputation zum Dr.-Ing. von Philipp Kühn \nMittwoch\, 26.03.2025\, 14:00-16:00 (Darmstadt) \nProactive Cyber Threat Intelligence: Automating the Intelligence Cycle based on Open Sources \nKommission: \nErstreferent: Prof. Dr. Dr. Christian Reuter \nKorreferent: Prof. Dr. Harald Baier\, Universität der Bundeswehr München \nVorsitzender: Prof. Dr. Thomas Schneider \nMitglied: Prof. Dr. Iryna Gurevych
URL:https://peasec.de/event/disputation-philipp-kuehn-cand-dr-ing-proactive-cyber-threat-intelligence-automating-the-intelligence-life-cycle-based-on-open-sources/
LOCATION:Darmstadt
CATEGORIES:Disputation
END:VEVENT
BEGIN:VEVENT
DTSTART;TZID=Europe/Berlin:20250613T090000
DTEND;TZID=Europe/Berlin:20250613T110000
DTSTAMP:20260421T170159
CREATED:20250122T143152Z
LAST-MODIFIED:20250513T124248Z
UID:20168-1749805200-1749812400@peasec.de
SUMMARY:Disputation Tom Biselli (Dr. rer. nat.): "Individual Information Sovereignty: User Perspectives and Digital Interventions for Navigating Privacy and Misinformation"
DESCRIPTION:Disputation zum Dr. rer. nat. von Tom Biselli \nFreitag\, 13\,06.2025\, 09:00-11:00h  im CYSEC-Gebäude; Pankratiusstr. 2\, Raum: S2/20 8 \n 
URL:https://peasec.de/event/disputation-tom-biselli/
LOCATION:Darmstadt
CATEGORIES:Disputation
END:VEVENT
BEGIN:VEVENT
DTSTART;TZID=Europe/Berlin:20250822T190000
DTEND;TZID=Europe/Berlin:20251006T120000
DTSTAMP:20260421T170159
CREATED:20250708T073154Z
LAST-MODIFIED:20251005T122154Z
UID:21634-1755889200-1759752000@peasec.de
SUMMARY:(Un)Sichtbarkeit von Gewalt
DESCRIPTION:Gruppenausstellung in der Kunsthalle Giessen mit Beteiligung von TraCe
URL:https://peasec.de/event/unsichtbarkeit-von-gewalt/
LOCATION:Kunst­halle Giessen\, Berliner Platz 1\, 35390 Gießen
END:VEVENT
BEGIN:VEVENT
DTSTART;TZID=Europe/Berlin:20250826T080000
DTEND;TZID=Europe/Berlin:20250826T103000
DTSTAMP:20260421T170159
CREATED:20250704T104503Z
LAST-MODIFIED:20250708T071541Z
UID:21602-1756195200-1756204200@peasec.de
SUMMARY:EISA PEC 2025: Presentation by Stefka Schmid “(In)Security at the Border: European AI Adoption for Situational Awareness”
DESCRIPTION:Part of Early Career Workshop (ECW 1): “Geopolitics of AI Governance: Actors\, Norms and Trends”
URL:https://peasec.de/event/eisa-pec-2025-workshop-with-stefka-schmid-insecurity-at-the-border-european-ai-adoption-for-situational-awareness/
LOCATION:Università di Bologna\, Belmeloro – Aula H
END:VEVENT
BEGIN:VEVENT
DTSTART;TZID=Europe/Berlin:20250827T140000
DTEND;TZID=Europe/Berlin:20250827T153000
DTSTAMP:20260421T170159
CREATED:20250704T104910Z
LAST-MODIFIED:20250704T104910Z
UID:21605-1756303200-1756308600@peasec.de
SUMMARY:EISA PEC 2025: Presentation by Anja-Liisa Gonsior and Stefka Schmid „Simulation in Practice: Modelling Collaboration in Security-critical Environments”
DESCRIPTION:
URL:https://peasec.de/event/eisa-pec-2025-presentation-by-anja-liisa-gonsior-and-stefka-schmid-simulation-in-practice-modelling-collaboration-in-security-critical-environments/
LOCATION:Università di Bologna\, Palazzo Hercolani – Aula 1
END:VEVENT
BEGIN:VEVENT
DTSTART;TZID=Europe/Berlin:20250901T110000
DTEND;TZID=Europe/Berlin:20250901T170000
DTSTAMP:20260421T170159
CREATED:20250530T062506Z
LAST-MODIFIED:20250530T062506Z
UID:21442-1756724400-1756746000@peasec.de
SUMMARY:12. Workshop “Mensch-Maschine-Interaktion in sicherheitskritischen Systemen” – Mensch und Computer\, Chemnitz (MuC’25)
DESCRIPTION:
URL:https://peasec.de/event/12-workshop-mensch-maschine-interaktion-in-sicherheitskritischen-systemen-mensch-und-computer-chemnitz-muc25/
LOCATION:Chemnitz\, Germany\, Chemnitz\, Germany
END:VEVENT
BEGIN:VEVENT
DTSTART;TZID=Europe/Berlin:20251015T161500
DTEND;TZID=Europe/Berlin:20251015T175500
DTSTAMP:20260421T170159
CREATED:20250808T064954Z
LAST-MODIFIED:20250821T093812Z
UID:21781-1760544900-1760550900@peasec.de
SUMMARY:Ringvorlesung KRITIS: Einführung in die Ringvorlesung sowie in Sichere Kritische Infrastrukturen (Prof. Dr. Dr. Christian Reuter)
DESCRIPTION:
URL:https://peasec.de/event/ringvorlesung-kritis-einfuhrung-in-die-ringvorlesung-sowie-in-sichere-kritische-infrastrukturen-prof-dr-dr-christian-reuter/
LOCATION:Raum S103/123 (Altes Hauptgebäude\, Hochschulstraße 1\, 64289 Darmstadt) und in ZOOM
CATEGORIES:Ringvorlesung Sichere Kritische Infrastrukturen
END:VEVENT
BEGIN:VEVENT
DTSTART;TZID=Europe/Berlin:20251022T161500
DTEND;TZID=Europe/Berlin:20251022T175500
DTSTAMP:20260421T170159
CREATED:20250808T085659Z
LAST-MODIFIED:20251017T121042Z
UID:21783-1761149700-1761155700@peasec.de
SUMMARY:Ringvorlesung KRITIS: Grundbegriffe: Kritikalität\, Vulnerabilität\, Preparedness\, System of Systems (Prof. Dr. Jens Ivo Engels)
DESCRIPTION:
URL:https://peasec.de/event/grundbegriffe-kritikalitat-vulnerabilitat-preparedness-system-of-systems-prof-dr-jens-ivo-engels/
LOCATION:Raum S103/123 (Altes Hauptgebäude\, Hochschulstraße 1\, 64289 Darmstadt) und in ZOOM
CATEGORIES:Ringvorlesung Sichere Kritische Infrastrukturen
END:VEVENT
BEGIN:VEVENT
DTSTART;TZID=Europe/Berlin:20251029T180000
DTEND;TZID=Europe/Berlin:20251029T200000
DTSTAMP:20260421T170159
CREATED:20250713T195808Z
LAST-MODIFIED:20250821T094344Z
UID:21675-1761760800-1761768000@peasec.de
SUMMARY:80 Jahre Hiroshima und die Verantwortung der Wissenschaft (Prof. Dr. Franz Fujara\, Prof. Dr. Dr. Christian Reuter\, Dr. Robin Mantel)
DESCRIPTION:more information
URL:https://peasec.de/event/hiroshima-und-die-verantwortung-der-wissenschaft/
CATEGORIES:Ringvorlesung Sichere Kritische Infrastrukturen
END:VEVENT
BEGIN:VEVENT
DTSTART;TZID=Europe/Berlin:20251105T161500
DTEND;TZID=Europe/Berlin:20251105T175500
DTSTAMP:20260421T170159
CREATED:20250808T090629Z
LAST-MODIFIED:20250821T094446Z
UID:21788-1762359300-1762365300@peasec.de
SUMMARY:Ringvorlesung KRITIS: Grundbegriffe: Resilienz (Prof. Dr.-Ing. Matthias Hollick)
DESCRIPTION:
URL:https://peasec.de/event/grundbegriffe-resilienz-prof-dr-ing-matthias-hollick/
LOCATION:Raum S103/123 (Altes Hauptgebäude\, Hochschulstraße 1\, 64289 Darmstadt) und in ZOOM
CATEGORIES:Ringvorlesung Sichere Kritische Infrastrukturen
END:VEVENT
BEGIN:VEVENT
DTSTART;TZID=Europe/Berlin:20251112T161500
DTEND;TZID=Europe/Berlin:20251112T175500
DTSTAMP:20260421T170159
CREATED:20250915T063804Z
LAST-MODIFIED:20250915T063917Z
UID:21982-1762964100-1762970100@peasec.de
SUMMARY:Ringvorlesung KRITIS: Is Space Weather a hazard to critical infrastructure and society
DESCRIPTION:
URL:https://peasec.de/event/ringvorlesung-kritis-is-space-weather-a-hazard-to-critical-infrastructure-and-society/
LOCATION:Raum S103/123 (Altes Hauptgebäude\, Hochschulstraße 1\, 64289 Darmstadt) und in ZOOM
CATEGORIES:Ringvorlesung Sichere Kritische Infrastrukturen
END:VEVENT
BEGIN:VEVENT
DTSTART;TZID=Europe/Berlin:20251119T161500
DTEND;TZID=Europe/Berlin:20251119T175500
DTSTAMP:20260421T170159
CREATED:20250808T090925Z
LAST-MODIFIED:20250821T094527Z
UID:21790-1763568900-1763574900@peasec.de
SUMMARY:Ringvorlesung KRITIS: HochwasserTok / Social Media und Hochwasservorsorge (Dr. Martha Wingen (Städteregion Aachen)
DESCRIPTION:
URL:https://peasec.de/event/ringvorlesung-kritis-hochwassertok-social-media-und-hochwasservorsorge-dr-martha-wingen-stadteregion-aachen/
LOCATION:Raum S103/123 (Altes Hauptgebäude\, Hochschulstraße 1\, 64289 Darmstadt) und in ZOOM
CATEGORIES:Ringvorlesung Sichere Kritische Infrastrukturen
END:VEVENT
BEGIN:VEVENT
DTSTART;TZID=Europe/Berlin:20251126T161500
DTEND;TZID=Europe/Berlin:20251126T175500
DTSTAMP:20260421T170159
CREATED:20250808T091117Z
LAST-MODIFIED:20250821T094600Z
UID:21792-1764173700-1764179700@peasec.de
SUMMARY:Ringvorlesung KRITIS: KRITIS-Regulierung aus Sicht der Wirtschaftsprüfung (Felix Guski (PwC))
DESCRIPTION:
URL:https://peasec.de/event/ringvorlesung-kritis-kritis-regulierung-aus-sicht-der-wirtschaftsprufung-felix-guski-pwc/
LOCATION:Raum S103/123 (Altes Hauptgebäude\, Hochschulstraße 1\, 64289 Darmstadt) und in ZOOM
CATEGORIES:Ringvorlesung Sichere Kritische Infrastrukturen
END:VEVENT
BEGIN:VEVENT
DTSTART;TZID=Europe/Berlin:20251126T170000
DTEND;TZID=Europe/Berlin:20251126T200000
DTSTAMP:20260421T170159
CREATED:20250827T062102Z
LAST-MODIFIED:20250827T062102Z
UID:21886-1764176400-1764187200@peasec.de
SUMMARY:Verleihung IANUS-Preis 2025
DESCRIPTION:Pankratiusstr. 2\, Darmstadt\, S2/20\, Raum 117
URL:https://peasec.de/event/verleihung-ianus-preis-2025/
END:VEVENT
BEGIN:VEVENT
DTSTART;TZID=Europe/Berlin:20251201T130000
DTEND;TZID=Europe/Berlin:20251201T150000
DTSTAMP:20260421T170159
CREATED:20251119T114935Z
LAST-MODIFIED:20251119T115000Z
UID:22751-1764594000-1764601200@peasec.de
SUMMARY:FONAS Fachgespräch\, „Dual-Use Forschungsförderung – Zivilklauseln – Wie weiter“
DESCRIPTION:Hier können Sie sich anmelden.
URL:https://peasec.de/event/fachgespraech_2025_fonas/
LOCATION:Dietrich-Bonhoeffer-Haus Ziegelstraße 30 Berlin\, 10117 Germany
END:VEVENT
BEGIN:VEVENT
DTSTART;TZID=Europe/Berlin:20251204T160000
DTEND;TZID=Europe/Berlin:20251204T170000
DTSTAMP:20260421T170159
CREATED:20251005T112826Z
LAST-MODIFIED:20251128T075922Z
UID:22136-1764864000-1764867600@peasec.de
SUMMARY:Winterkolloquium von Fachbereich Informatik
DESCRIPTION:
URL:https://peasec.de/event/winterkolloquium-von-fachbereich-informatik/
LOCATION:S202/C205 – Bosch Hörsaal\, Hochschulstraße 10\, Darmstadt\, 64289\, Germany
END:VEVENT
BEGIN:VEVENT
DTSTART;TZID=Europe/Berlin:20251217T161500
DTEND;TZID=Europe/Berlin:20251217T175500
DTSTAMP:20260421T170159
CREATED:20250808T092621Z
LAST-MODIFIED:20251216T090645Z
UID:21795-1765988100-1765994100@peasec.de
SUMMARY:Ringvorlesung KRITIS: Resilienz kritischer Infrastrukturen – Perspektiven des physischen Schutzes (Prof. Dr.-Ing. Norbert Gebbeken (UniBW München))
DESCRIPTION:Anmeldung:\nBitte senden Sie eine leere E-Mail an kritis-anmeldung@peasec.de\, um sich anzumelden und die Zugangsdaten zu erhalten.
URL:https://peasec.de/event/ringvorlesung-kritis-resilienz-kritischer-infrastrukturen-perspektiven-des-physischen-schutzes-prof-dr-ing-norbert-gebbeken-bw-uni-munchen/
LOCATION:Raum S103/123 (Altes Hauptgebäude\, Hochschulstraße 1\, 64289 Darmstadt) und in ZOOM
CATEGORIES:Ringvorlesung Sichere Kritische Infrastrukturen
END:VEVENT
BEGIN:VEVENT
DTSTART;TZID=Europe/Berlin:20260114T133000
DTEND;TZID=Europe/Berlin:20260114T151000
DTSTAMP:20260421T170159
CREATED:20260103T215851Z
LAST-MODIFIED:20260103T215851Z
UID:23529-1768397400-1768403400@peasec.de
SUMMARY:IuG: Berufsethik und User-Centered Design
DESCRIPTION:
URL:https://peasec.de/event/iug-berufsethik-und-user-centered-design/
END:VEVENT
BEGIN:VEVENT
DTSTART;TZID=Europe/Berlin:20260114T161500
DTEND;TZID=Europe/Berlin:20260114T175500
DTSTAMP:20260421T170159
CREATED:20250808T092937Z
LAST-MODIFIED:20251216T090722Z
UID:21797-1768407300-1768413300@peasec.de
SUMMARY:Ringvorlesung KRITIS: Krisenkommunikation (Sebastian T. Baum (Sachgebiet 5))
DESCRIPTION:Anmeldung:\nBitte senden Sie eine leere E-Mail an kritis-anmeldung@peasec.de\, um sich anzumelden und die Zugangsdaten zu erhalten.
URL:https://peasec.de/event/ringvorlesung-kritis-krisenkommunikation-sebastian-t-baum-sachgebiet-5/
LOCATION:Raum S103/123 (Altes Hauptgebäude\, Hochschulstraße 1\, 64289 Darmstadt) und in ZOOM
CATEGORIES:Ringvorlesung Sichere Kritische Infrastrukturen
END:VEVENT
END:VCALENDAR