BEGIN:VCALENDAR
VERSION:2.0
PRODID:-//PEASEC - Science and Technology for Peace and Security | Technical University of Darmstadt - ECPv6.15.20//NONSGML v1.0//EN
CALSCALE:GREGORIAN
METHOD:PUBLISH
X-WR-CALNAME:PEASEC - Science and Technology for Peace and Security | Technical University of Darmstadt
X-ORIGINAL-URL:https://peasec.de
X-WR-CALDESC:Events for PEASEC - Science and Technology for Peace and Security | Technical University of Darmstadt
REFRESH-INTERVAL;VALUE=DURATION:PT1H
X-Robots-Tag:noindex
X-PUBLISHED-TTL:PT1H
BEGIN:VTIMEZONE
TZID:Europe/Berlin
BEGIN:DAYLIGHT
TZOFFSETFROM:+0100
TZOFFSETTO:+0200
TZNAME:CEST
DTSTART:20170326T010000
END:DAYLIGHT
BEGIN:STANDARD
TZOFFSETFROM:+0200
TZOFFSETTO:+0100
TZNAME:CET
DTSTART:20171029T010000
END:STANDARD
BEGIN:DAYLIGHT
TZOFFSETFROM:+0100
TZOFFSETTO:+0200
TZNAME:CEST
DTSTART:20180325T010000
END:DAYLIGHT
BEGIN:STANDARD
TZOFFSETFROM:+0200
TZOFFSETTO:+0100
TZNAME:CET
DTSTART:20181028T010000
END:STANDARD
BEGIN:DAYLIGHT
TZOFFSETFROM:+0100
TZOFFSETTO:+0200
TZNAME:CEST
DTSTART:20190331T010000
END:DAYLIGHT
BEGIN:STANDARD
TZOFFSETFROM:+0200
TZOFFSETTO:+0100
TZNAME:CET
DTSTART:20191027T010000
END:STANDARD
END:VTIMEZONE
BEGIN:VEVENT
DTSTART;TZID=Europe/Berlin:20181016T180500
DTEND;TZID=Europe/Berlin:20181016T194500
DTSTAMP:20260421T171854
CREATED:20181001T120140Z
LAST-MODIFIED:20181001T120956Z
UID:3472-1539713100-1539719100@peasec.de
SUMMARY:Seminar-Kickoff Krisen-\, Sicherheits- und Friedensinformatik
DESCRIPTION:
URL:https://peasec.de/event/seminar-kickoff-krisen-sicherheits-und-friedensinformatik/
END:VEVENT
BEGIN:VEVENT
DTSTART;TZID=Europe/Berlin:20181016T152000
DTEND;TZID=Europe/Berlin:20181016T180000
DTSTAMP:20260421T171854
CREATED:20181121T144300Z
LAST-MODIFIED:20181121T144300Z
UID:3820-1539703200-1539712800@peasec.de
SUMMARY:Organization and Introduction (Chapter 1) – Science and Technology for Peace and Security
DESCRIPTION:
URL:https://peasec.de/event/organization-and-introduction-chapter-1-science-and-technology-for-peace-and-security/
END:VEVENT
BEGIN:VEVENT
DTSTART;TZID=Europe/Berlin:20181016T152000
DTEND;TZID=Europe/Berlin:20181016T175500
DTSTAMP:20260421T171854
CREATED:20181001T120226Z
LAST-MODIFIED:20181001T120226Z
UID:3474-1539703200-1539712500@peasec.de
SUMMARY:Vorlesungsstart "Informationstechnologie für Frieden und Sicherheit"
DESCRIPTION:
URL:https://peasec.de/event/vorlesungsstart-informationstechnologie-fuer-frieden-und-sicherheit/
END:VEVENT
BEGIN:VEVENT
DTSTART;TZID=Europe/Berlin:20180927T080000
DTEND;TZID=Europe/Berlin:20180929T170000
DTSTAMP:20260421T171854
CREATED:20181001T120509Z
LAST-MODIFIED:20181001T120509Z
UID:3484-1538035200-1538240400@peasec.de
SUMMARY:Cybersecurity and Cyberconflict: Sate of the Art Research Conference
DESCRIPTION:
URL:https://peasec.de/event/cybersecurity-and-cyberconflict-sate-of-the-art-research-conference/
END:VEVENT
BEGIN:VEVENT
DTSTART;TZID=Europe/Berlin:20180925T080000
DTEND;TZID=Europe/Berlin:20180925T170000
DTSTAMP:20260421T171854
CREATED:20181001T120546Z
LAST-MODIFIED:20181001T120546Z
UID:3488-1537862400-1537894800@peasec.de
SUMMARY:AGBR-Konferenz
DESCRIPTION:
URL:https://peasec.de/event/agbr-konferenz/
END:VEVENT
BEGIN:VEVENT
DTSTART;TZID=Europe/Berlin:20180921T080000
DTEND;TZID=Europe/Berlin:20180922T170000
DTSTAMP:20260421T171854
CREATED:20181001T120616Z
LAST-MODIFIED:20181001T120616Z
UID:3490-1537516800-1537635600@peasec.de
SUMMARY:HSFK-Jahreskonferenz 2018: Verification in Crisis\, the Crisis of Verification
DESCRIPTION:https://www.hsfk.de/veranstaltungen/veranstaltung/news/hsfk-jahreskonferenz-2018-verification-in-crisis-the-crisis-of-verification/
URL:https://peasec.de/event/hsfk-jahreskonferenz-2018-verification-in-crisis-the-crisis-of-verification/
LOCATION:Frankfurt
END:VEVENT
BEGIN:VEVENT
DTSTART;VALUE=DATE:20180921
DTEND;VALUE=DATE:20180923
DTSTAMP:20260421T171854
CREATED:20181028T114809Z
LAST-MODIFIED:20181028T114809Z
UID:3604-1537488000-1537660799@peasec.de
SUMMARY:HSFK-Jahreskonferenz 2018: Verification in Crisis\, the Crisis of Verification
DESCRIPTION:
URL:https://peasec.de/event/hsfk-jahreskonferenz-2018-verification-in-crisis-the-crisis-of-verification-2/
END:VEVENT
BEGIN:VEVENT
DTSTART;TZID=Europe/Berlin:20180920T160000
DTEND;TZID=Europe/Berlin:20180920T180000
DTSTAMP:20260421T171854
CREATED:20200107T120119Z
LAST-MODIFIED:20200115T092728Z
UID:5761-1537459200-1537466400@peasec.de
SUMMARY:Disputation Thomas Wunderer (FG Buchmann): On the Security of Lattice-Based Cryptography Against Lattice Reduction and Hybrid Attacks
DESCRIPTION:
URL:https://peasec.de/event/disputation-thomas-wunderer-fg-buchmann/
CATEGORIES:Disputation
END:VEVENT
BEGIN:VEVENT
DTSTART;TZID=Europe/Berlin:20180920T153000
DTEND;TZID=Europe/Berlin:20180920T173000
DTSTAMP:20260421T171854
CREATED:20181001T120710Z
LAST-MODIFIED:20181001T120710Z
UID:3495-1537457400-1537464600@peasec.de
SUMMARY:Dispuation (Dr. rer. nat.) Thomas Wunderer: On the Security of Lattice-based Cryptography Against Lattice Reduction and Hybrid Attacks
DESCRIPTION:
URL:https://peasec.de/event/dispuation-dr-rer-nat-thomas-wunderer-on-the-security-of-lattice-based-cryptography-against-lattice-reduction-and-hybrid-attacks/
END:VEVENT
BEGIN:VEVENT
DTSTART;TZID=Europe/Berlin:20180920T130000
DTEND;TZID=Europe/Berlin:20180920T150000
DTSTAMP:20260421T171854
CREATED:20181001T120737Z
LAST-MODIFIED:20200109T092601Z
UID:3497-1537448400-1537455600@peasec.de
SUMMARY:Disputation Nina Bindel (FG Buchmann): On the Security of Lattice-Based Signature Schemes in a Post-Quantum World
DESCRIPTION:
URL:https://peasec.de/event/disputation-dr-rer-nat-nina-bindel-on-the-security-of-lattice-based-signature-schemes-in-a-post-quantum-world/
CATEGORIES:Disputation
END:VEVENT
BEGIN:VEVENT
DTSTART;TZID=Europe/Berlin:20180920T080000
DTEND;TZID=Europe/Berlin:20180921T170000
DTSTAMP:20260421T171854
CREATED:20181001T120640Z
LAST-MODIFIED:20181001T120640Z
UID:3493-1537430400-1537549200@peasec.de
SUMMARY:Symposium: Can The World Run on Blockchains? The Good\, The Bad\, and The Ugly
DESCRIPTION:
URL:https://peasec.de/event/symposium-can-the-world-run-on-blockchains-the-good-the-bad-and-the-ugly/
END:VEVENT
BEGIN:VEVENT
DTSTART;VALUE=DATE:20180917
DTEND;VALUE=DATE:20180919
DTSTAMP:20260421T171854
CREATED:20181001T122128Z
LAST-MODIFIED:20181001T122214Z
UID:3503-1537142400-1537315199@peasec.de
SUMMARY:FONAS-Jahrestagung
DESCRIPTION:
URL:https://peasec.de/event/fonas-jahrestagung/
END:VEVENT
BEGIN:VEVENT
DTSTART;VALUE=DATE:20180912
DTEND;VALUE=DATE:20180913
DTSTAMP:20260421T171854
CREATED:20181028T114632Z
LAST-MODIFIED:20181028T114632Z
UID:3600-1536710400-1536796799@peasec.de
SUMMARY:PEASEC-Vortrag im Deutschen Bundestag zu „Cybersicherheit – Perspektiven für einen sicheren digitalen Raum“
DESCRIPTION:
URL:https://peasec.de/event/peasec-vortrag-im-deutschen-bundestag-zu-cybersicherheit-perspektiven-fuer-einen-sicheren-digitalen-raum/
END:VEVENT
BEGIN:VEVENT
DTSTART;TZID=Europe/Berlin:20180902T080000
DTEND;TZID=Europe/Berlin:20180903T170000
DTSTAMP:20260421T171854
CREATED:20181205T130623Z
LAST-MODIFIED:20181205T130623Z
UID:3972-1535875200-1535994000@peasec.de
SUMMARY:Konferenz Mensch & Computer 2018
DESCRIPTION:
URL:https://peasec.de/event/konferenz-mensch-computer-2018/
END:VEVENT
BEGIN:VEVENT
DTSTART;VALUE=DATE:20180827
DTEND;VALUE=DATE:20180828
DTSTAMP:20260421T171854
CREATED:20181028T114729Z
LAST-MODIFIED:20181028T114729Z
UID:3602-1535328000-1535414399@peasec.de
SUMMARY:PEASEC beim Internationalen Akademischen Sommerforum des Europäischen Jugendparlaments in Deutschland e.V.
DESCRIPTION:
URL:https://peasec.de/event/peasec-beim-internationalen-akademischen-sommerforum-des-europaeischen-jugendparlaments-in-deutschland-e-v/
END:VEVENT
BEGIN:VEVENT
DTSTART;TZID=Europe/Berlin:20180815T160000
DTEND;TZID=Europe/Berlin:20180815T180000
DTSTAMP:20260421T171854
CREATED:20181001T122235Z
LAST-MODIFIED:20181001T122235Z
UID:3505-1534348800-1534356000@peasec.de
SUMMARY:Ethik- und Technologiebeirat der Digitalstadt Darmstadt
DESCRIPTION:
URL:https://peasec.de/event/ethik-und-technologiebeirat-der-digitalstadt-darmstadt/
END:VEVENT
BEGIN:VEVENT
DTSTART;TZID=Europe/Berlin:20180716T103000
DTEND;TZID=Europe/Berlin:20180716T123000
DTSTAMP:20260421T171854
CREATED:20200107T120358Z
LAST-MODIFIED:20200115T092643Z
UID:5764-1531737000-1531744200@peasec.de
SUMMARY:Disputation Denny Stohr (FG Steinmetz): User-Centric Video in the Future Internet:  QoE in Participatory Video Generation and Distribution
DESCRIPTION:
URL:https://peasec.de/event/disputation-denny-stohr-fg-steinmetz/
CATEGORIES:Disputation
END:VEVENT
BEGIN:VEVENT
DTSTART;TZID=Europe/Berlin:20180713T083000
DTEND;TZID=Europe/Berlin:20180713T180000
DTSTAMP:20260421T171854
CREATED:20181205T130341Z
LAST-MODIFIED:20181205T130341Z
UID:3970-1531470600-1531504800@peasec.de
SUMMARY:2. PEASEC Konferenz: Blockseminar CyberWar
DESCRIPTION:
URL:https://peasec.de/event/2-peasec-konferenz-blockseminar-cyberwar/
END:VEVENT
BEGIN:VEVENT
DTSTART;TZID=Europe/Berlin:20180618T080000
DTEND;TZID=Europe/Berlin:20180620T170000
DTSTAMP:20260421T171854
CREATED:20181205T130149Z
LAST-MODIFIED:20181205T130149Z
UID:3968-1529308800-1529514000@peasec.de
SUMMARY:BMBF-Innovationsforum "Zivile Sicherheit" 2018 - Berlin
DESCRIPTION:
URL:https://peasec.de/event/bmbf-innovationsforum-zivile-sicherheit-2018-berlin/
END:VEVENT
BEGIN:VEVENT
DTSTART;TZID=Europe/Berlin:20180605T140000
DTEND;TZID=Europe/Berlin:20180605T160000
DTSTAMP:20260421T171854
CREATED:20181205T130002Z
LAST-MODIFIED:20200109T092024Z
UID:3966-1528207200-1528214400@peasec.de
SUMMARY:Disputation Max Limper (FG Fellner): Automatic Optimization of 3D Mesh Data for Real-Time Online Presentation
DESCRIPTION:
URL:https://peasec.de/event/disputation-dipl-inform-max-limper-automatic-optimization-of-3d-mesh-data-for-real-time-online-presentation/
CATEGORIES:Disputation
END:VEVENT
BEGIN:VEVENT
DTSTART;TZID=Europe/Berlin:20180524T150000
DTEND;TZID=Europe/Berlin:20180524T170000
DTSTAMP:20260421T171854
CREATED:20181205T125912Z
LAST-MODIFIED:20200109T091941Z
UID:3964-1527174000-1527181200@peasec.de
SUMMARY:Disputation Thomas Arnold (FG Weihe): Analyse von Texten mittels Netzwerkanalyseverfahen
DESCRIPTION:
URL:https://peasec.de/event/disputation-thomas-arnold-analyse-von-texten-mittels-netzwerkanalyseverfahen/
CATEGORIES:Disputation
END:VEVENT
BEGIN:VEVENT
DTSTART;TZID=Europe/Berlin:20180514T093000
DTEND;TZID=Europe/Berlin:20180514T193000
DTSTAMP:20260421T171854
CREATED:20181119T160019Z
LAST-MODIFIED:20181119T160019Z
UID:3806-1526290200-1526326200@peasec.de
SUMMARY:Vortrag auf German-Israeli-Conference “Inner Security and Human Rights under Exceptional Conditions”
DESCRIPTION:
URL:https://peasec.de/event/vortrag-auf-german-israeli-conference-inner-security-and-human-rights-under-exceptional-conditions/
LOCATION:Forschungszentrum  Historische Geisteswissenschaften Goethe-Universität | Campus Westend Norbert-Wollheim-Platz 1 | 60323 Frankfurt a. M.
END:VEVENT
BEGIN:VEVENT
DTSTART;TZID=Europe/Berlin:20180411T114000
DTEND;TZID=Europe/Berlin:20180411T151000
DTSTAMP:20260421T171854
CREATED:20181205T125258Z
LAST-MODIFIED:20181205T125258Z
UID:3954-1523446800-1523459400@peasec.de
SUMMARY:Vorlesungsbeginn "Sicherheitskritische Mensch-Computer-Interaktion"
DESCRIPTION:
URL:https://peasec.de/event/vorlesungsbeginn-sicherheitskritische-mensch-computer-interaktion/
LOCATION:S402/101
END:VEVENT
BEGIN:VEVENT
DTSTART;TZID=Europe/Berlin:20180411T095000
DTEND;TZID=Europe/Berlin:20180411T112000
DTSTAMP:20260421T171854
CREATED:20181205T125427Z
LAST-MODIFIED:20181205T125605Z
UID:3958-1523440200-1523445600@peasec.de
SUMMARY:"Seminar Cyber-Sicherheit\, -Krieg und -Frieden" & (Projekt-)Praktikum "Friedens- und Kriseninformatik"
DESCRIPTION:
URL:https://peasec.de/event/seminar-cyber-sicherheit-krieg-und-frieden-sowie-projekt-praktikum-friedens-und-kriseninformatik/
LOCATION:S414
END:VEVENT
BEGIN:VEVENT
DTSTART;TZID=Europe/Berlin:20180305T160000
DTEND;TZID=Europe/Berlin:20180305T180000
DTSTAMP:20260421T171854
CREATED:20181205T124939Z
LAST-MODIFIED:20200109T091927Z
UID:3952-1520265600-1520272800@peasec.de
SUMMARY:Disputation Naser Damer (FG Kuijper): Application-driven Advances in Multi-biometric Fusion
DESCRIPTION:
URL:https://peasec.de/event/disputation-naser-damer-application-driven-advances-in-multi-biometric-fusion/
CATEGORIES:Disputation
END:VEVENT
BEGIN:VEVENT
DTSTART;TZID=Europe/Berlin:20180226T130000
DTEND;TZID=Europe/Berlin:20180226T150000
DTSTAMP:20260421T171854
CREATED:20181205T124814Z
LAST-MODIFIED:20200109T091900Z
UID:3950-1519650000-1519657200@peasec.de
SUMMARY:Disputation Matthias Schulz (FG Hollick): Teaching your Wireless Card New Tricks: Smartphone Performance and Security Enhancements Through Wi-Fi Firmware Modifications
DESCRIPTION:
URL:https://peasec.de/event/disputation-matthias-schulz-teaching-your-wireless-card-new-tricks-smartphone-performance-and-security-enhancements-through-wi-fi-firmware-modifications/
CATEGORIES:Disputation
END:VEVENT
BEGIN:VEVENT
DTSTART;TZID=Europe/Berlin:20180226T103000
DTEND;TZID=Europe/Berlin:20180226T113000
DTSTAMP:20260421T171854
CREATED:20181205T124719Z
LAST-MODIFIED:20181205T124719Z
UID:3948-1519641000-1519644600@peasec.de
SUMMARY:Vortrag T. Reinhold: Verification in Cyberwar
DESCRIPTION:
URL:https://peasec.de/event/vortrag-t-reinhold-verification-in-cyberwar/
END:VEVENT
BEGIN:VEVENT
DTSTART;TZID=Europe/Berlin:20180214T110000
DTEND;TZID=Europe/Berlin:20180214T120000
DTSTAMP:20260421T171854
CREATED:20181205T124544Z
LAST-MODIFIED:20181205T124552Z
UID:3946-1518606000-1518609600@peasec.de
SUMMARY:UIC Workshop "Crisis communication and social media" (Paris) - Presentation: "Social Media in Crisis Management: Empirical Findings and Prototypes" (Marc-André Kaufhold/Christian Reuter)
DESCRIPTION:
URL:https://peasec.de/event/uic-workshop-crisis-communication-and-social-media-paris-presentation-social-media-in-crisis-management-empirical-findings-and-prototypes-marc-andre-kaufhold-christian-reuter/
END:VEVENT
BEGIN:VEVENT
DTSTART;TZID=Europe/Berlin:20180205T130000
DTEND;TZID=Europe/Berlin:20180205T150000
DTSTAMP:20260421T171854
CREATED:20181205T124357Z
LAST-MODIFIED:20200109T091820Z
UID:3944-1517835600-1517842800@peasec.de
SUMMARY:Disputation Zheng Lu (FG Koch): Web Visualization and Animation for Cognitive Learning
DESCRIPTION:
URL:https://peasec.de/event/disputation-zheng-lu-web-visualization-and-animation-for-cognitive-learning/
CATEGORIES:Disputation
END:VEVENT
BEGIN:VEVENT
DTSTART;TZID=Europe/Berlin:20180201T080000
DTEND;TZID=Europe/Berlin:20180201T180000
DTSTAMP:20260421T171854
CREATED:20181205T110808Z
LAST-MODIFIED:20181205T110808Z
UID:3940-1517472000-1517508000@peasec.de
SUMMARY:1. PEASEC Konferenz - Seminar-Präsentationen "IT für Frieden und Sicherheit"
DESCRIPTION:
URL:https://peasec.de/event/1-peasec-konferenz-seminar-praesentationen-it-fuer-frieden-und-sicherheit/
LOCATION:Mornewegstraße S414
END:VEVENT
END:VCALENDAR